BEGIN:VCALENDAR
VERSION:2.0
PRODID:-//Hotel Covington - ECPv6.15.20//NONSGML v1.0//EN
CALSCALE:GREGORIAN
METHOD:PUBLISH
X-WR-CALNAME:Hotel Covington
X-ORIGINAL-URL:https://hotelcovington.com
X-WR-CALDESC:Events for Hotel Covington
REFRESH-INTERVAL;VALUE=DURATION:PT1H
X-Robots-Tag:noindex
X-PUBLISHED-TTL:PT1H
BEGIN:VTIMEZONE
TZID:UTC
BEGIN:STANDARD
TZOFFSETFROM:+0000
TZOFFSETTO:+0000
TZNAME:UTC
DTSTART:20250101T000000
END:STANDARD
END:VTIMEZONE
BEGIN:VEVENT
DTSTART;VALUE=DATE:20260420
DTEND;VALUE=DATE:20260427
DTSTAMP:20260425T004331
CREATED:20260408T130101Z
LAST-MODIFIED:20260408T130101Z
UID:98116-1776643200-1777247999@hotelcovington.com
SUMMARY:Greater Cincinnati Restaurant Week
DESCRIPTION:Greater Cincinnati Restaurant Week is almost here 🍽️\n\n\n \n\n\nJoin us at Coppins from April 20–26 for a special three-course dinner menu crafted just for the occasion. From spring-inspired starters to indulgent desserts\, it’s the perfect excuse to plan a night out.\n\n\n \n\n\nEven better\, $1 from every meal served during the week will benefit Cincinnati Children’s.\n\n\n \n\n\nMake your reservation and come dine for a great cause.\n\n\n#Coppins #RestaurantWeek #CincinnatiEats #NKYDining #CovingtonKY #EatLocal #FoodieCincy #DineForACause
URL:https://hotelcovington.com/event/greater-cincinnati-restaurant-week/
LOCATION:Coppins\, 638 Madison Ave.\, Covington\, KY\, 41011\, United States
ATTACH;FMTTYPE=image/png:https://hotelcovington.com/wp-content/uploads/2026/04/Screenshot-2026-04-08-at-9.00.26-AM.png
END:VEVENT
BEGIN:VEVENT
DTSTART;TZID=UTC:20260422T190000
DTEND;TZID=UTC:20260422T210000
DTSTAMP:20260425T004331
CREATED:20260327T171131Z
LAST-MODIFIED:20260327T173236Z
UID:96337-1776884400-1776891600@hotelcovington.com
SUMMARY:Danny Davis Jr. Live at Knowledge Bar & Social Room
DESCRIPTION:There’s something about live music in the middle of the week that changes the pace of everything.\nJoin us Wednesday\, April 22 as Danny Davis Jr performs live at Knowledge Bar & Social Room.\nWith cocktails in hand and music filling the space\, Wednesday nights become something worth looking forward to.\n\nMake Knowledge part of your midweek tradition.
URL:https://hotelcovington.com/event/danny-davis-jr-live-at-knowledge-bar-social-room-4/
LOCATION:Knowledge Bar and Social Room\, 620 Madison Ave\, Covington\, KY\, 41011\, United States
ATTACH;FMTTYPE=image/jpeg:https://hotelcovington.com/wp-content/uploads/2026/03/KBSR_APRIL_LiveMusic_LAYOUT-Danny.jpeg
END:VEVENT
END:VCALENDAR