BEGIN:VCALENDAR
VERSION:2.0
PRODID:-//Hotel Covington - ECPv6.15.20//NONSGML v1.0//EN
CALSCALE:GREGORIAN
METHOD:PUBLISH
X-WR-CALNAME:Hotel Covington
X-ORIGINAL-URL:https://hotelcovington.com
X-WR-CALDESC:Events for Hotel Covington
REFRESH-INTERVAL;VALUE=DURATION:PT1H
X-Robots-Tag:noindex
X-PUBLISHED-TTL:PT1H
BEGIN:VTIMEZONE
TZID:UTC
BEGIN:STANDARD
TZOFFSETFROM:+0000
TZOFFSETTO:+0000
TZNAME:UTC
DTSTART:20240101T000000
END:STANDARD
END:VTIMEZONE
BEGIN:VEVENT
DTSTART;TZID=UTC:20250903T190000
DTEND;TZID=UTC:20250903T220000
DTSTAMP:20260425T032421
CREATED:20250825T172521Z
LAST-MODIFIED:20250825T173320Z
UID:93782-1756926000-1756936800@hotelcovington.com
SUMMARY:Live Music at Knowledge Featuring Brad Lark
DESCRIPTION:Brad Lark is back. 🎸A staple of the local music scene — and a favorite on the Knowledge stage — Brad Lark returns for another unforgettable night of live music. \nBrad’s music blends soulful songwriting\, rich guitar work\, and grounded storytelling. If you’ve heard him before\, you already know what a treat this is. If not — consider this your invitation.
URL:https://hotelcovington.com/event/live-music-at-knowledge-featuring-brad-lark/
LOCATION:Knowledge Bar and Social Room\, 620 Madison Ave\, Covington\, KY\, 41011\, United States
ATTACH;FMTTYPE=image/jpeg:https://hotelcovington.com/wp-content/uploads/2025/08/KBSR_SEPTEMBER_LiveMusic_BradLark.jpg
END:VEVENT
BEGIN:VEVENT
DTSTART;TZID=UTC:20250909T190000
DTEND;TZID=UTC:20250909T210000
DTSTAMP:20260425T032421
CREATED:20250818T135719Z
LAST-MODIFIED:20250902T165506Z
UID:93595-1757444400-1757451600@hotelcovington.com
SUMMARY:Cocktail Knowledge "Stirred" Cocktail Class (SOLD OUT)
DESCRIPTION:Step back in time and raise a glass to the golden age of cocktails. \nOn Tuesday\, September 9th\, join us at Knowledge Bar & Social Room for Stirred — our immersive Cocktail Knowledge class. We’ll explore the elegance and artistry of cocktail culture from the late 1800s through the roaring 1920s\, teaching you to craft two historic classics: \nSazerac — The iconic New Orleans cocktail\, bold with Boone County Rye and aromatic bitters.\nMartinez — The refined forerunner to the martini\, made with Bols Genever Amsterdam gin. \nGuided by our expert bartenders\, you’ll stir\, sip\, and savor your creations while learning the stories and history behind each drink.\nTickets: $45 per person \nIncludes hands-on instruction\, cocktail history\, and two cocktails you’ll craft yourself. \nTHIS EVENT IS CURRENTLY SOLD OUT
URL:https://hotelcovington.com/event/cocktail-knowledge-stirred-cocktail-class/
LOCATION:Knowledge Bar and Social Room\, 620 Madison Ave\, Covington\, KY\, 41011\, United States
ATTACH;FMTTYPE=image/jpeg:https://hotelcovington.com/wp-content/uploads/2025/08/Post-1.jpg
END:VEVENT
BEGIN:VEVENT
DTSTART;TZID=UTC:20250910T190000
DTEND;TZID=UTC:20250910T220000
DTSTAMP:20260425T032421
CREATED:20250825T172725Z
LAST-MODIFIED:20250825T173233Z
UID:93784-1757530800-1757541600@hotelcovington.com
SUMMARY:Live Music at Knowledge Featuring Danny Davis Jr.
DESCRIPTION:Danny Davis Jr. takes the stage at Knowledge Bar with soulful performances that blend jazz\, soul\, and classic grooves into the perfect midweek soundtrack. \n✨ Craft cocktails✨ A stylish\, intimate setting✨ No cover charge
URL:https://hotelcovington.com/event/live-music-at-knowledge-featuring-danny-davis-jr/
LOCATION:Knowledge Bar and Social Room\, 620 Madison Ave\, Covington\, KY\, 41011\, United States
ATTACH;FMTTYPE=image/jpeg:https://hotelcovington.com/wp-content/uploads/2025/08/KBSR_SEPTEMBER_LiveMusic_Danny1.jpg
END:VEVENT
BEGIN:VEVENT
DTSTART;TZID=UTC:20250924T190000
DTEND;TZID=UTC:20250924T220000
DTSTAMP:20260425T032421
CREATED:20250825T173123Z
LAST-MODIFIED:20250825T173123Z
UID:93786-1758740400-1758751200@hotelcovington.com
SUMMARY:Live Music at Knowledge Featuring Danny Davis Jr.
DESCRIPTION:Midweek deserves a soundtrack. 🎶This Wednesday\, join us at Knowledge Bar & Social Room as we welcome back Danny Davis Jr. — a performer known for his smooth voice\, soulful charm\, and timeless stage presence.\nSettle in with a craft cocktail\, unwind in our intimate lounge setting\, and let Danny’s music take you somewhere else for the night.
URL:https://hotelcovington.com/event/live-music-at-knowledge-featuring-danny-davis-jr-2/
LOCATION:Knowledge Bar and Social Room\, 620 Madison Ave\, Covington\, KY\, 41011\, United States
ATTACH;FMTTYPE=image/jpeg:https://hotelcovington.com/wp-content/uploads/2025/08/KBSR_SEPTEMBER_LiveMusic_Danny2.jpg
END:VEVENT
END:VCALENDAR