BEGIN:VCALENDAR
VERSION:2.0
PRODID:-//Hotel Covington - ECPv6.15.20//NONSGML v1.0//EN
CALSCALE:GREGORIAN
METHOD:PUBLISH
X-ORIGINAL-URL:https://hotelcovington.com
X-WR-CALDESC:Events for Hotel Covington
REFRESH-INTERVAL;VALUE=DURATION:PT1H
X-Robots-Tag:noindex
X-PUBLISHED-TTL:PT1H
BEGIN:VTIMEZONE
TZID:UTC
BEGIN:STANDARD
TZOFFSETFROM:+0000
TZOFFSETTO:+0000
TZNAME:UTC
DTSTART:20240101T000000
END:STANDARD
END:VTIMEZONE
BEGIN:VEVENT
DTSTART;TZID=UTC:20251007T190000
DTEND;TZID=UTC:20251007T220000
DTSTAMP:20260425T020121
CREATED:20250818T130558Z
LAST-MODIFIED:20250825T171615Z
UID:93589-1759863600-1759874400@hotelcovington.com
SUMMARY:Talks & Tonics - Ghosts of Covington Featuring Hierophany & Hedge
DESCRIPTION:Join us for the launch of Talks & Tonics — a new lecture series at Knowledge Bar & Social Room where curious minds meet crafted cocktails. Our first evening dives into the haunted history of Covington with special guests from Hierophany & Hedge\, Covington’s beloved magic shop. From local legends to paranormal lore\, you’ll hear tales of the spirits that may still linger in the shadows of our city—and beyond. Knowledge Bar & Social Room\, inside North by Hotel Covington. \nFree to attend | 21+\nCocktails available for purchase\nSeating is limited – early arrival encouraged \nWhether you’re a skeptic\, believer\, or somewhere in between\, this is an evening you won’t want to miss.
URL:https://hotelcovington.com/event/talks-tonics-ghosts-of-covington-featuring-hierophany-hedge/
LOCATION:Knowledge Bar and Social Room\, 620 Madison Ave\, Covington\, KY\, 41011\, United States
ATTACH;FMTTYPE=image/jpeg:https://hotelcovington.com/wp-content/uploads/2025/08/Post-3.jpg
END:VEVENT
END:VCALENDAR