BEGIN:VCALENDAR
VERSION:2.0
PRODID:-//Hotel Covington - ECPv6.15.20//NONSGML v1.0//EN
CALSCALE:GREGORIAN
METHOD:PUBLISH
X-WR-CALNAME:Hotel Covington
X-ORIGINAL-URL:https://hotelcovington.com
X-WR-CALDESC:Events for Hotel Covington
REFRESH-INTERVAL;VALUE=DURATION:PT1H
X-Robots-Tag:noindex
X-PUBLISHED-TTL:PT1H
BEGIN:VTIMEZONE
TZID:UTC
BEGIN:STANDARD
TZOFFSETFROM:+0000
TZOFFSETTO:+0000
TZNAME:UTC
DTSTART:20240101T000000
END:STANDARD
END:VTIMEZONE
BEGIN:VEVENT
DTSTART;TZID=UTC:20250918T190000
DTEND;TZID=UTC:20250918T220000
DTSTAMP:20260424T220750
CREATED:20250912T145409Z
LAST-MODIFIED:20250912T145456Z
UID:93909-1758222000-1758232800@hotelcovington.com
SUMMARY:Crossfade: A Contemporary Art Show in Coppins Alley
DESCRIPTION:This Thursday night\, Coppins Alley comes alive with Crossfade — a special one-night showcase featuring some of the city’s best contemporary artists. Step into the alley and explore bold works and fresh perspectives while enjoying the unique energy of Covington’s art scene. \nThe Coppin’s Walk-Up Window will be serving up fresh hibachi dishes all evening\, making this the perfect way to experience art\, food\, and community in one unforgettable night.
URL:https://hotelcovington.com/event/crossfade-art-show/
LOCATION:Coppins Alley Walk Up Window\, 638 Madison Ave.\, Covington\, KY\, 41011\, United States
ATTACH;FMTTYPE=image/png:https://hotelcovington.com/wp-content/uploads/2025/09/Screenshot-2025-09-12-at-10.53.45-AM.png
END:VEVENT
END:VCALENDAR